BEGIN:VCALENDAR
VERSION:2.0
PRODID:-//jEvents 2.0 for Joomla//EN
CALSCALE:GREGORIAN
METHOD:PUBLISH
BEGIN:VTIMEZONE
TZID:Europe/Berlin
BEGIN:STANDARD
DTSTART:20231029T020000
RDATE:20240331T030000
TZOFFSETFROM:+0200
TZOFFSETTO:+0100
TZNAME:Europe/Berlin CET
END:STANDARD
BEGIN:STANDARD
DTSTART:20241027T020000
RDATE:20250330T030000
TZOFFSETFROM:+0200
TZOFFSETTO:+0100
TZNAME:Europe/Berlin CET
END:STANDARD
BEGIN:STANDARD
DTSTART:20251026T020000
RDATE:20260329T030000
TZOFFSETFROM:+0200
TZOFFSETTO:+0100
TZNAME:Europe/Berlin CET
END:STANDARD
BEGIN:STANDARD
DTSTART:20261025T020000
RDATE:20270328T030000
TZOFFSETFROM:+0200
TZOFFSETTO:+0100
TZNAME:Europe/Berlin CET
END:STANDARD
BEGIN:STANDARD
DTSTART:20271031T020000
RDATE:20280326T030000
TZOFFSETFROM:+0200
TZOFFSETTO:+0100
TZNAME:Europe/Berlin CET
END:STANDARD
BEGIN:STANDARD
DTSTART:20281029T020000
RDATE:20290325T030000
TZOFFSETFROM:+0200
TZOFFSETTO:+0100
TZNAME:Europe/Berlin CET
END:STANDARD
BEGIN:STANDARD
DTSTART:20291028T020000
RDATE:20300331T030000
TZOFFSETFROM:+0200
TZOFFSETTO:+0100
TZNAME:Europe/Berlin CET
END:STANDARD
BEGIN:STANDARD
DTSTART:20301027T020000
RDATE:20310330T030000
TZOFFSETFROM:+0200
TZOFFSETTO:+0100
TZNAME:Europe/Berlin CET
END:STANDARD
BEGIN:STANDARD
DTSTART:20311026T020000
RDATE:20320328T030000
TZOFFSETFROM:+0200
TZOFFSETTO:+0100
TZNAME:Europe/Berlin CET
END:STANDARD
BEGIN:DAYLIGHT
DTSTART:20230714T000000
RDATE:20231029T020000
TZOFFSETFROM:+0100
TZOFFSETTO:+0200
TZNAME:Europe/Berlin CEST
END:DAYLIGHT
BEGIN:DAYLIGHT
DTSTART:20240331T030000
RDATE:20241027T020000
TZOFFSETFROM:+0100
TZOFFSETTO:+0200
TZNAME:Europe/Berlin CEST
END:DAYLIGHT
BEGIN:DAYLIGHT
DTSTART:20250330T030000
RDATE:20251026T020000
TZOFFSETFROM:+0100
TZOFFSETTO:+0200
TZNAME:Europe/Berlin CEST
END:DAYLIGHT
BEGIN:DAYLIGHT
DTSTART:20260329T030000
RDATE:20261025T020000
TZOFFSETFROM:+0100
TZOFFSETTO:+0200
TZNAME:Europe/Berlin CEST
END:DAYLIGHT
BEGIN:DAYLIGHT
DTSTART:20270328T030000
RDATE:20271031T020000
TZOFFSETFROM:+0100
TZOFFSETTO:+0200
TZNAME:Europe/Berlin CEST
END:DAYLIGHT
BEGIN:DAYLIGHT
DTSTART:20280326T030000
RDATE:20281029T020000
TZOFFSETFROM:+0100
TZOFFSETTO:+0200
TZNAME:Europe/Berlin CEST
END:DAYLIGHT
BEGIN:DAYLIGHT
DTSTART:20290325T030000
RDATE:20291028T020000
TZOFFSETFROM:+0100
TZOFFSETTO:+0200
TZNAME:Europe/Berlin CEST
END:DAYLIGHT
BEGIN:DAYLIGHT
DTSTART:20300331T030000
RDATE:20301027T020000
TZOFFSETFROM:+0100
TZOFFSETTO:+0200
TZNAME:Europe/Berlin CEST
END:DAYLIGHT
BEGIN:DAYLIGHT
DTSTART:20310330T030000
RDATE:20311026T020000
TZOFFSETFROM:+0100
TZOFFSETTO:+0200
TZNAME:Europe/Berlin CEST
END:DAYLIGHT
END:VTIMEZONE
BEGIN:VEVENT
UID:4ee1e229469721e49a8a6873e5e8fda6
CATEGORIES:Sommeraktivitäten
CREATED:20240616T233042
SUMMARY:Fahrradtour nach Vockenrot/Lauda
DESCRIPTION:Fahrradtour nach Vockenrot/Lauda am So 14.07.2024\n \nDie diesjährige Ski-C
 lub Fahrradtour ist nach Vockenrot/Lauda geplant.-                         
   \n \n            Fitness Radgruppe (Streckenlänge ca. 80 km)\n \nStart in
  Lauda um 09:00 Uhr beim „Gasthaus Stern“\nDie Route führt über TBB nach Kö
 nigheim.\nVon dort geht’s auf dem Fahrradweg weiter nach Külsheim (erste Ra
 st). Nach einer kurzen Pause geht es weiter auf dem Fahrradweg nach Vockenr
 ot über Hundheim und Sachsenhausen. \n \nGegen 12:00 Uhr ist in Vockenrot i
 n der Speisegaststätte „Zum Ross“ eine Mittagsrast geplant.\n Hier besteht 
 die Möglichkeit seinen Radakku aufzuladen!!!\n \nSpätestens ca. 13:30 Uhr i
 st das Weiteradeln  nach Reicholzheim über TBB - vorgesehen. \nIn Tauberbis
 chofsheim genießen wir noch ein Eis, bevor es zurück nach Lauda geht.\n \nO
 rganisatorisches:\n·       Funktionstüchtiges Trekking-Fahrrad (E-Bike)\n· 
       Mitnahme von ausreichenden Getränken ist zwingend notwendig \n·      
  es wird eine gemeinsame Gruppen-Fahrrad-Tour sein mit fest eingeteiltem \n
  Führungs- bzw. Schlußmann\n Anmeldung der Teilnahme bei Kellermann Reiner 
 Tel: 09343-5669Bei Schlechtwetter: Ausweichtermin am 21.07.24 \n
X-ALT-DESC;FMTTYPE=text/html:<p class="MsoNormal"><strong style="mso-bidi-font-weight: normal;"><u><span
  lang="DE" style="font-size: 16.0pt;">Fahrradtour nach Vockenrot/Lauda am S
 o 14.07.2024</span></u></strong></p><p class="MsoNormal"> </p><p class="Mso
 Normal"><span lang="DE">Die diesjährige Ski-Club Fahrradtour ist nach <stro
 ng style="mso-bidi-font-weight: normal;"><u>Vockenrot/Lauda</u></strong></s
 pan><strong style="mso-bidi-font-weight: normal;"><u><span lang="DE" style=
 "font-size: 16.0pt;"> </span></u></strong><span lang="DE">geplant.-<span st
 yle="mso-spacerun: yes;">                           </span></span></p><p cl
 ass="MsoNormal"><span lang="DE"> </span></p><p class="MsoNormal"><span lang
 ="DE"><span style="mso-spacerun: yes;">   </span><span style="mso-tab-count
 : 1;">         </span></span><strong style="mso-bidi-font-weight: normal;">
 <u><span lang="DE" style="font-size: 14.0pt;">Fitness Radgruppe</span></u><
 /strong><span lang="DE" style="font-size: 14.0pt;"> (Streckenlänge ca. 80 k
 m)</span></p><p class="MsoNormal"><span lang="DE" style="font-size: 14.0pt;
 "> </span></p><p class="MsoNormal"><span lang="DE">Start in Lauda um 09:00 
 Uhr beim „Gasthaus Stern“</span></p><p class="MsoNormal"><span lang="DE">Di
 e Route führt über TBB nach Königheim.</span></p><p class="MsoNormal"><span
  lang="DE">Von dort geht’s auf dem Fahrradweg weiter nach Külsheim (erste R
 ast). </span><span lang="DE">Nach einer kurzen Pause geht es weiter auf dem
  Fahrradweg nach Vockenrot über Hundheim und Sachsenhausen. </span></p><p c
 lass="MsoNormal"><span lang="DE"> </span></p><p class="MsoNormal"><span lan
 g="DE">Gegen 12:00 Uhr ist in Vockenrot in der Speisegaststätte „Zum Ross“ 
 eine Mittagsrast geplant.</span></p><p class="MsoNormal"><span lang="DE"> <
 /span><em style="mso-bidi-font-style: normal;"><span lang="DE">Hier besteht
  die Möglichkeit seinen Radakku aufzuladen!!!</span></em></p><p class="MsoN
 ormal"><span lang="DE"> </span></p><p class="MsoNormal"><span lang="DE">Spä
 testens ca. 13:30 Uhr ist das Weiteradeln <span style="mso-spacerun: yes;">
  </span>nach Reicholzheim über TBB - vorgesehen. </span></p><p class="MsoNo
 rmal"><span lang="DE">In Tauberbischofsheim genießen wir noch ein Eis, bevo
 r es zurück nach Lauda geht.</span></p><p class="MsoNormal"><span lang="DE"
 > </span></p><p class="MsoNormal"><u><span lang="DE">Organisatorisches:</sp
 an></u></p><p class="MsoNormal" style="margin-left: 39.0pt; text-indent: -1
 8.0pt; mso-list: l0 level1 lfo1; tab-stops: list 39.0pt;"><span lang="DE" s
 tyle="font-family: Symbol; mso-fareast-font-family: Symbol; mso-bidi-font-f
 amily: Symbol;"><span style="mso-list: Ignore;">·<span style="font: 7.0pt '
 Times New Roman';">       </span></span></span><span lang="DE">Funktionstüc
 htiges Trekking-Fahrrad (E-Bike)</span></p><p class="MsoNormal" style="marg
 in-left: 39.0pt; text-indent: -18.0pt; mso-list: l0 level1 lfo1; tab-stops:
  list 39.0pt;"><span lang="DE" style="font-family: Symbol; mso-fareast-font
 -family: Symbol; mso-bidi-font-family: Symbol;"><span style="mso-list: Igno
 re;">·<span style="font: 7.0pt 'Times New Roman';">       </span></span></s
 pan><span lang="DE">Mitnahme von ausreichenden Getränken ist zwingend notwe
 ndig </span></p><p class="MsoNormal" style="margin-left: 39.0pt; text-inden
 t: -18.0pt; mso-list: l0 level1 lfo1; tab-stops: list 39.0pt;"><span lang="
 DE" style="font-family: Symbol; mso-fareast-font-family: Symbol; mso-bidi-f
 ont-family: Symbol;"><span style="mso-list: Ignore;">·<span style="font: 7.
 0pt 'Times New Roman';">       </span></span></span><span lang="DE">es wird
  eine gemeinsame Gruppen-Fahrrad-Tour sein mit fest eingeteiltem </span></p
 ><p class="MsoNormal" style="margin-left: 35.4pt;"><span lang="DE"><span st
 yle="mso-spacerun: yes;"> </span>Führungs- bzw. Schlußmann</span></p><ul st
 yle="margin-top: 0cm;" type="disc"><li class="MsoNormal" style="mso-list: l
 1 level1 lfo2; tab-stops: list 36.0pt;"><span lang="DE"><span style="mso-sp
 acerun: yes;"> </span><strong>Anmeldung der Teilnahme bei Kellermann Reiner
  Tel: 09343-5669</strong></span></li><li class="MsoNormal" style="mso-list:
  l1 level1 lfo2; tab-stops: list 36.0pt;"><span lang="DE">Bei Schlechtwette
 r: Ausweichtermin am 21.07.24</span></li></ul><p class="MsoNormal" style="m
 argin-left: 36.0pt;"><span lang="DE"> </span></p>
DTSTAMP:20260421T134259
DTSTART;TZID=Europe/Berlin;VALUE=DATE:20240714
DTEND;TZID=Europe/Berlin;VALUE=DATE:20240715
SEQUENCE:0
TRANSP:OPAQUE
END:VEVENT
END:VCALENDAR