BEGIN:VCALENDAR
VERSION:2.0
PRODID:-//jEvents 2.0 for Joomla//EN
CALSCALE:GREGORIAN
METHOD:PUBLISH
BEGIN:VTIMEZONE
TZID:Europe/Berlin
BEGIN:STANDARD
DTSTART:20231029T020000
RDATE:20240331T030000
TZOFFSETFROM:+0200
TZOFFSETTO:+0100
TZNAME:Europe/Berlin CET
END:STANDARD
BEGIN:STANDARD
DTSTART:20241027T020000
RDATE:20250330T030000
TZOFFSETFROM:+0200
TZOFFSETTO:+0100
TZNAME:Europe/Berlin CET
END:STANDARD
BEGIN:STANDARD
DTSTART:20251026T020000
RDATE:20260329T030000
TZOFFSETFROM:+0200
TZOFFSETTO:+0100
TZNAME:Europe/Berlin CET
END:STANDARD
BEGIN:STANDARD
DTSTART:20261025T020000
RDATE:20270328T030000
TZOFFSETFROM:+0200
TZOFFSETTO:+0100
TZNAME:Europe/Berlin CET
END:STANDARD
BEGIN:STANDARD
DTSTART:20271031T020000
RDATE:20280326T030000
TZOFFSETFROM:+0200
TZOFFSETTO:+0100
TZNAME:Europe/Berlin CET
END:STANDARD
BEGIN:STANDARD
DTSTART:20281029T020000
RDATE:20290325T030000
TZOFFSETFROM:+0200
TZOFFSETTO:+0100
TZNAME:Europe/Berlin CET
END:STANDARD
BEGIN:STANDARD
DTSTART:20291028T020000
RDATE:20300331T030000
TZOFFSETFROM:+0200
TZOFFSETTO:+0100
TZNAME:Europe/Berlin CET
END:STANDARD
BEGIN:STANDARD
DTSTART:20301027T020000
RDATE:20310330T030000
TZOFFSETFROM:+0200
TZOFFSETTO:+0100
TZNAME:Europe/Berlin CET
END:STANDARD
BEGIN:STANDARD
DTSTART:20311026T020000
RDATE:20320328T030000
TZOFFSETFROM:+0200
TZOFFSETTO:+0100
TZNAME:Europe/Berlin CET
END:STANDARD
BEGIN:DAYLIGHT
DTSTART:20230727T000000
RDATE:20231029T020000
TZOFFSETFROM:+0100
TZOFFSETTO:+0200
TZNAME:Europe/Berlin CEST
END:DAYLIGHT
BEGIN:DAYLIGHT
DTSTART:20240331T030000
RDATE:20241027T020000
TZOFFSETFROM:+0100
TZOFFSETTO:+0200
TZNAME:Europe/Berlin CEST
END:DAYLIGHT
BEGIN:DAYLIGHT
DTSTART:20250330T030000
RDATE:20251026T020000
TZOFFSETFROM:+0100
TZOFFSETTO:+0200
TZNAME:Europe/Berlin CEST
END:DAYLIGHT
BEGIN:DAYLIGHT
DTSTART:20260329T030000
RDATE:20261025T020000
TZOFFSETFROM:+0100
TZOFFSETTO:+0200
TZNAME:Europe/Berlin CEST
END:DAYLIGHT
BEGIN:DAYLIGHT
DTSTART:20270328T030000
RDATE:20271031T020000
TZOFFSETFROM:+0100
TZOFFSETTO:+0200
TZNAME:Europe/Berlin CEST
END:DAYLIGHT
BEGIN:DAYLIGHT
DTSTART:20280326T030000
RDATE:20281029T020000
TZOFFSETFROM:+0100
TZOFFSETTO:+0200
TZNAME:Europe/Berlin CEST
END:DAYLIGHT
BEGIN:DAYLIGHT
DTSTART:20290325T030000
RDATE:20291028T020000
TZOFFSETFROM:+0100
TZOFFSETTO:+0200
TZNAME:Europe/Berlin CEST
END:DAYLIGHT
BEGIN:DAYLIGHT
DTSTART:20300331T030000
RDATE:20301027T020000
TZOFFSETFROM:+0100
TZOFFSETTO:+0200
TZNAME:Europe/Berlin CEST
END:DAYLIGHT
BEGIN:DAYLIGHT
DTSTART:20310330T030000
RDATE:20311026T020000
TZOFFSETFROM:+0100
TZOFFSETTO:+0200
TZNAME:Europe/Berlin CEST
END:DAYLIGHT
END:VTIMEZONE
BEGIN:VEVENT
UID:b0ac7f1d42448ea0695b825c456e8563
CATEGORIES:Veranstaltungen
CREATED:20240604T235020
SUMMARY:Sommerfest
DESCRIPTION:12. Mai 2024\n \nEinladung zum\nSommerfest 2024\n \n \nLiebe Vereinsmitglie
 der,\n \nwir möchten Euch auch dieses Jahr  wieder zu unserm Sommerfest ein
 laden.\n \n Termin:   Samstag, 27. Juli 2024, ab 18 Uhr\n Ort:         Im G
 arten von Fam. Scheible\n                 Julius-Echter-Strasse 47\n       
           Lauda\n\n\nFröhliches Beisammensein mit Spanferkelessen &amp; Gri
 llen ab ca. 19 Uhr\n Bier, Wein, Sekt und alkoholfreie Getränke gibt es wie
  immer zum Selbstkostenpreis.\n \nBitte bringt große Salatspenden mit, dami
 t wir ein reichhaltiges Salatbuffet für alle einrichten können.\nBitte teil
 t uns diese vorab bei eurer Anmeldung mit oder tragt euch in die Spenderlis
 te (https://deref-gmx.net/mail/client/Rfm6-USYsQw/dereferrer/?redirectUrl=h
 ttps%3A%2F%2Fskiclub-lauda.de%2Findex.php%3Foption%3Dcom_acym%26ctrl%3Dfron
 turl%26task%3Dclick%26urlid%3D15%26userid%3D194%26mailid%3D80) ein.\n \nBit
 te selbst mitbringen:\n\n \nEigenes Grillgut (wer kein leckeres Spanferkel 
 möchte)Geschirr und ggf. Weizenbiergläser mitbringen \n \nBitte meldet euch
  bis spätestens Freitag, 31. Mai 2024 ob Ihr zum Sommerfest kommt und wievi
 ele Portionen Spanferkel Ihr möchtet, damit wir planen können !\n \n \nAnme
 ldung bitte an: Diese E-Mail-Adresse ist vor Spambots geschützt! Zur Anzeig
 e muss JavaScript eingeschaltet sein.\n \n \n\nDie Vorstandschaft freut sic
 h auf Euer Kommen.\n\n \n\nViele Grüße\n\nDie Vorstandschaft\n
X-ALT-DESC;FMTTYPE=text/html:<table class="row acym__wysid__row__element" style="border-spacing: 0; vert
 ical-align: top; text-align: left; margin-bottom: 0; width: 100.0%; positio
 n: relative; padding: 10.0px; border-style: none; border-width: 0; backgrou
 nd-color: rgb(255,255,255);" border="0" cellspacing="0" cellpadding="0" bgc
 olor="#ffffff"><tbody style="background-color: inherit;"><tr style="vertica
 l-align: top; text-align: left;"><th class="small-12 medium-12 large-12 col
 umns acym__wysid__row__element__th" style="color: rgb(10,10,10); font-famil
 y: Helvetica , Arial , sans-serif; font-weight: 400; text-align: left; font
 -size: 16.0px; line-height: 1.3; margin: 0 auto; width: 580.0px; height: au
 to;" valign="top"><table class="acym__wysid__column" style="border-spacing:
  0; border-collapse: collapse; vertical-align: top; text-align: left; margi
 n-bottom: 0; width: 100.0%; min-height: 0.0px; display: table; height: auto
 ;" border="0" cellspacing="0" cellpadding="0"><tbody class="ui-sortable" st
 yle="min-height: 0.0px; display: table-row-group;"><tr class="acym__wysid__
 column__element ui-draggable" style="vertical-align: top; text-align: left;
  position: relative; top: inherit; left: inherit; right: inherit; bottom: i
 nherit; height: auto;"><td class="large-12 acym__wysid__column__element__td
 " style="vertical-align: top; color: rgb(10,10,10); font-family: Helvetica 
 , Arial , sans-serif; font-weight: 400; margin: 0; text-align: left; font-s
 ize: 16.0px; line-height: 1.3; width: 100.0%; outline-width: 0.0px; border-
 collapse: collapse;"><div id="mce_0" class="acym__wysid__tinymce--text mce-
 content-body" style="height: 100.0%; position: relative;"><p class="acym__w
 ysid__tinymce--text--placeholder" style="margin: 0; margin-bottom: 0; font-
 family: Helvetica; font-size: 12.0px; font-weight: normal; font-style: norm
 al; color: rgb(0,0,0); text-align: right; line-height: inherit;">12. Mai 20
 24</p></div></td></tr></tbody></table></th></tr></tbody></table><table clas
 s="row acym__wysid__row__element" style="border-spacing: 0; vertical-align:
  top; text-align: left; margin-bottom: 0; width: 100.0%; position: relative
 ; padding: 10.0px; border-style: none; border-width: 0; background-color: r
 gb(255,255,255);" border="0" cellspacing="0" cellpadding="0" bgcolor="#ffff
 ff"><tbody style="background-color: inherit;"><tr style="vertical-align: to
 p; text-align: left;"><th class="small-12 medium-12 large-12 columns acym__
 wysid__row__element__th" style="color: rgb(10,10,10); font-family: Helvetic
 a , Arial , sans-serif; font-weight: 400; text-align: left; font-size: 16.0
 px; line-height: 1.3; margin: 0 auto; width: 580.0px; height: auto;" valign
 ="top"><table class="acym__wysid__column" style="border-spacing: 0; border-
 collapse: collapse; vertical-align: top; text-align: left; margin-bottom: 0
 ; width: 100.0%; min-height: 0.0px; display: table; height: auto;" border="
 0" cellspacing="0" cellpadding="0"><tbody class="ui-sortable" style="min-he
 ight: 0.0px; display: table-row-group;"><tr class="acym__wysid__column__ele
 ment ui-draggable" style="vertical-align: top; text-align: left; position: 
 relative; top: inherit; left: inherit; right: inherit; bottom: inherit; hei
 ght: auto;"><td class="large-12 acym__wysid__column__element__td" style="ve
 rtical-align: top; color: rgb(10,10,10); font-family: Helvetica , Arial , s
 ans-serif; font-weight: 400; margin: 0; text-align: left; font-size: 16.0px
 ; line-height: 1.3; width: 100.0%; outline-width: 0.0px; border-collapse: c
 ollapse;"><div id="mce_11" class="acym__wysid__tinymce--text mce-content-bo
 dy" style="height: 100.0%; position: relative;"><p class="acym__wysid__tiny
 mce--text--placeholder" style="margin: 0; text-align: left; margin-bottom: 
 0; font-family: Helvetica; font-size: 12.0px; font-weight: normal; font-sty
 le: normal; color: rgb(0,0,0); line-height: inherit;"> </p><p style="margin
 : 0; color: rgb(0,0,0); font-family: Helvetica; font-size: 12.0px; margin-b
 ottom: 0.0cm; padding-left: 210.0px; font-weight: normal; font-style: norma
 l; text-align: justify; line-height: inherit;"><span style="color: inherit;
  font-size: large; font-family: helvetica , arial , sans-serif;">Einladung 
 zum</span></p><p style="margin: 0; color: rgb(0,0,0); font-family: Helvetic
 a; font-size: 12.0px; margin-bottom: 0.0cm; padding-left: 180.0px; font-wei
 ght: normal; font-style: normal; text-align: justify; line-height: inherit;
 "><span style="color: inherit; font-size: x-large; font-family: helvetica ,
  arial , sans-serif;"><strong style="font-weight: bold;">Sommerfest 2024</s
 trong></span></p><p style="margin: 0px 0px 0cm; color: rgb(0, 0, 0); font-f
 amily: Helvetica; font-size: 12px; padding-left: 110px; font-weight: normal
 ; font-style: normal; text-align: justify; line-height: inherit;"><span sty
 le="color: inherit; font-size: x-large; font-family: helvetica , arial , sa
 ns-serif;"><strong style="font-weight: bold;"> </strong></span></p><p style
 ="margin: 0; text-align: left; color: rgb(0,0,0); font-family: Helvetica; f
 ont-size: 12.0px; margin-bottom: 0.0cm; font-weight: normal; font-style: no
 rmal; line-height: inherit;"><span style="color: inherit; font-family: helv
 etica , arial , sans-serif;"> </span></p><p style="margin: 0; text-align: l
 eft; color: rgb(0,0,0); font-family: Helvetica; font-size: 12.0px; margin-b
 ottom: 0.0cm; font-weight: normal; font-style: normal; line-height: inherit
 ;"><span style="color: inherit; font-size: 16.0px; font-family: helvetica ,
  arial , sans-serif;">Liebe Vereinsmitglieder,</span></p><p style="margin: 
 0; text-align: left; color: rgb(0,0,0); font-family: Helvetica; font-size: 
 12.0px; margin-bottom: 0.0cm; font-weight: normal; font-style: normal; line
 -height: inherit;"> </p><p style="margin: 0; text-align: left; color: rgb(0
 ,0,0); font-family: Helvetica; font-size: 12.0px; margin-bottom: 0.0cm; fon
 t-weight: normal; font-style: normal; line-height: inherit;"><span style="c
 olor: rgb(0,0,0); font-family: helvetica , arial , sans-serif; font-size: 1
 6.0px;">wir möchten Euch auch dieses Jahr  wieder zu unserm Sommerfest einl
 aden.</span></p><p style="margin: 0; text-align: left; color: rgb(0,0,0); f
 ont-family: Helvetica; font-size: 12.0px; margin-bottom: 0.0cm; font-weight
 : normal; font-style: normal; line-height: inherit;"><span style="color: in
 herit; font-size: 16.0px; font-family: helvetica , arial , sans-serif;"> </
 span></p><p style="margin: 0; text-align: left; color: rgb(0,0,0); font-fam
 ily: Helvetica; font-size: 12.0px; margin-bottom: 0.0cm; font-weight: norma
 l; font-style: normal; line-height: inherit;"><span style="color: inherit; 
 font-size: 16.0px; font-family: helvetica , arial , sans-serif;"> <strong s
 tyle="font-weight: bold;">Termin:</strong>   <strong style="font-weight: bo
 ld;">Samstag, 27. <span style="color: inherit;">Juli</span></strong> <stron
 g style="font-weight: bold;">2024, ab 18 Uhr</strong></span></p><p style="m
 argin: 0; text-align: left; color: rgb(0,0,0); font-family: Helvetica; font
 -size: 12.0px; margin-bottom: 0.0cm; font-weight: normal; font-style: norma
 l; line-height: inherit;"><span style="color: inherit; font-size: 16.0px; f
 ont-family: helvetica , arial , sans-serif;"> <strong style="font-weight: b
 old;">Ort:         Im Garten von Fam. </strong></span><span style="color: i
 nherit; font-size: 16.0px;"><strong style="font-weight: bold;">Scheible</st
 rong></span></p><p style="margin: 0; text-align: left; color: rgb(0,0,0); f
 ont-family: Helvetica; font-size: 12.0px; margin-bottom: 0.0cm; font-weight
 : normal; font-style: normal; line-height: inherit;"><span style="color: in
 herit; font-size: 16.0px;"><strong style="font-weight: bold;">             
     Julius-Echter-Strasse 47</strong></span></p><p style="margin: 0; text-a
 lign: left; color: rgb(0,0,0); font-family: Helvetica; font-size: 12.0px; m
 argin-bottom: 0.0cm; font-weight: normal; font-style: normal; line-height: 
 inherit;"><span style="color: inherit; font-size: 16.0px;"><strong style="f
 ont-weight: bold;">                 Lauda</strong></span></p><p style="marg
 in: 0; text-align: left; color: rgb(0,0,0); font-family: Helvetica; font-si
 ze: 12.0px; margin-bottom: 0.0cm; font-weight: normal; font-style: normal; 
 line-height: inherit;"><span style="color: inherit; font-size: 16.0px; font
 -family: helvetica , arial , sans-serif;"><strong style="font-weight: bold;
 "><br /></strong><strong style="font-weight: bold;"><br /></strong>Fröhlich
 es Beisammensein mit Spanferkelessen &amp; Grillen ab ca. 19 Uhr</span></p>
 <p style="margin: 0; text-align: left; color: rgb(0,0,0); font-family: Helv
 etica; font-size: 12.0px; margin-bottom: 0.0cm; font-weight: normal; font-s
 tyle: normal; line-height: inherit;"><span style="color: inherit; font-size
 : 16.0px; font-family: helvetica , arial , sans-serif;"> Bier, Wein, Sekt u
 nd alkoholfreie Getränke gibt es wie immer zum Selbstkostenpreis.</span></p
 ><p style="margin: 0; text-align: left; color: rgb(0,0,0); font-family: Hel
 vetica; font-size: 12.0px; margin-bottom: 0.0cm; font-weight: normal; font-
 style: normal; line-height: inherit;"><span style="color: inherit; font-siz
 e: 16.0px; font-family: helvetica , arial , sans-serif;"> </span></p><p sty
 le="margin: 0; text-align: left; color: rgb(0,0,0); font-family: Helvetica;
  font-size: 12.0px; margin-bottom: 0.0cm; font-weight: normal; font-style: 
 normal; line-height: inherit;"><span style="color: inherit; font-size: 16.0
 px; font-family: helvetica , arial , sans-serif;"><strong style="font-weigh
 t: bold;">Bitte bringt große Salatspenden mit, damit wir ein reichhaltiges 
 Salatbuffet für alle einrichten können.</strong></span><br /><span style="c
 olor: inherit; font-size: 16.0px; font-family: helvetica , arial , sans-ser
 if;"><span style="color: inherit; font-size: 18.0px;">Bitte teilt uns diese
  vorab bei eurer Anmeldung mit oder tragt euch in die <a class="acym__wysid
 __content-no-settings-style" style="margin: 0; text-align: left; text-decor
 ation: none; font-weight: normal; line-height: inherit; font-style: normal;
  color: rgb(0,0,241); font-family: Helvetica;" href="https://deref-gmx.net/
 mail/client/Rfm6-USYsQw/dereferrer/?redirectUrl=https%3A%2F%2Fskiclub-lauda
 .de%2Findex.php%3Foption%3Dcom_acym%26ctrl%3Dfronturl%26task%3Dclick%26urli
 d%3D15%26userid%3D194%26mailid%3D80" target="_blank" rel="noopener"><span s
 tyle="color: inherit; text-decoration: underline;"><strong style="font-weig
 ht: bold;">Spenderliste</strong></span></a></span> ein.</span></p><p style=
 "margin: 0; text-align: left; color: rgb(0,0,0); font-family: Helvetica; fo
 nt-size: 12.0px; margin-bottom: 0.0cm; font-weight: normal; font-style: nor
 mal; line-height: inherit;"><span style="color: inherit; font-size: 16.0px;
  font-family: helvetica , arial , sans-serif;"> </span><br /><span style="c
 olor: inherit; font-size: 16.0px; font-family: helvetica , arial , sans-ser
 if;"><strong style="font-weight: bold;">Bitte selbst mitbringen:<br /></str
 ong></span></p><p class="acym__wysid__tinymce--text--placeholder" style="ma
 rgin: 0; text-align: left; margin-bottom: 0; font-family: Helvetica; font-s
 ize: 12.0px; color: rgb(0,0,0); font-weight: normal; font-style: normal; li
 ne-height: inherit;"><span style="color: inherit; font-family: helvetica , 
 arial , sans-serif; font-size: 16.0px;"><span style="color: inherit; backgr
 ound-color: inherit;"><span style="color: rgb(0,0,0);"> </span></span></spa
 n></p><ul style="color: rgb(0,0,0); font-family: Verdana; font-size: 12.0px
 ;"><li style="font-family: Helvetica; font-size: 12.0px; font-weight: norma
 l; font-style: normal; color: rgb(0,0,0); line-height: inherit;"><span styl
 e="color: inherit; font-size: 16.0px; font-family: helvetica , arial , sans
 -serif;">Eigenes Grillgut (wer kein leckeres Spanferkel möchte)</span></li>
 </ul><ul style="color: rgb(0,0,0); font-family: Verdana; font-size: 12.0px;
 "><li style="font-family: Helvetica; font-size: 12.0px; font-weight: normal
 ; font-style: normal; color: rgb(0,0,0); line-height: inherit;"><span style
 ="color: inherit; font-size: 16.0px; font-family: helvetica , arial , sans-
 serif;"><strong style="font-weight: bold;">Geschirr und ggf. Weizenbiergläs
 er mitbringen</strong></span></li></ul><p class="acym__wysid__tinymce--text
 --placeholder" style="margin: 0; text-align: left; margin-bottom: 0; font-f
 amily: Helvetica; font-size: 12.0px; color: rgb(0,0,0); font-weight: normal
 ; font-style: normal; line-height: inherit;"><span style="color: inherit; f
 ont-family: helvetica , arial , sans-serif; font-size: 16.0px;"><span style
 ="color: inherit; background-color: inherit;"><span style="color: rgb(0,0,0
 );"> </span></span></span></p><p style="margin: 0; text-align: left; color:
  rgb(0,0,0); font-family: Helvetica; font-size: 12.0px; margin-bottom: 0.0c
 m; font-weight: normal; font-style: normal; line-height: inherit;"><span st
 yle="color: inherit; font-size: 16.0px; font-family: helvetica , arial , sa
 ns-serif;"> </span></p><p style="margin: 0; text-align: left; color: rgb(0,
 0,0); font-family: Helvetica; font-size: 12.0px; margin-bottom: 0.0cm; font
 -weight: normal; font-style: normal; line-height: inherit;"><span style="co
 lor: inherit; font-size: 16.0px; font-family: helvetica , arial , sans-seri
 f;"><strong style="font-weight: bold;">Bitte meldet euch bis spätestens Fre
 itag, 31. Mai 2024 ob Ihr zum Sommerfest kommt und wieviele Portionen Spanf
 erkel Ihr möchtet, damit wir planen können !</strong></span></p><p style="m
 argin: 0; text-align: left; color: rgb(0,0,0); font-family: Helvetica; font
 -size: 12.0px; margin-bottom: 0.0cm; font-weight: normal; font-style: norma
 l; line-height: inherit;"><span style="color: inherit; font-size: 16.0px; f
 ont-family: helvetica , arial , sans-serif;"> </span></p><p style="margin: 
 0; text-align: left; color: rgb(0,0,0); font-family: Helvetica; font-size: 
 12.0px; margin-bottom: 0.0cm; font-weight: normal; font-style: normal; line
 -height: inherit;"><span style="color: inherit; font-size: 16.0px; font-fam
 ily: helvetica , arial , sans-serif;"> </span></p><p style="margin: 0; text
 -align: left; color: rgb(0,0,0); font-family: Helvetica; font-size: 12.0px;
  margin-bottom: 0.0cm; font-weight: normal; font-style: normal; line-height
 : inherit;"><span style="color: inherit; font-size: 16.0px; font-family: he
 lvetica , arial , sans-serif;"><strong style="font-weight: bold;">Anmeldung
  bitte an: </strong><strong style="font-weight: bold;"><joomla-hidden-mail 
 class="acym__wysid__content-no-settings-style" style="margin: 0; text-align
 : left; text-decoration: none; font-weight: normal; font-style: normal; col
 or: rgb(0,0,241); line-height: inherit; font-family: Helvetica;"  is-link="
 1" is-email="1" first="ZW1haWw=" last="c2tpY2x1Yi1sYXVkYS5kZQ==" text="ZW1h
 aWxAc2tpY2x1Yi1sYXVkYS5kZQ==" base=""  target="_blank" rel="noopener">Diese
  E-Mail-Adresse ist vor Spambots geschützt! Zur Anzeige muss JavaScript ein
 geschaltet sein.</joomla-hidden-mail></strong></span></p><p style="margin: 
 0; text-align: left; color: rgb(0,0,0); font-family: Helvetica; font-size: 
 12.0px; margin-bottom: 0.0cm; font-weight: normal; font-style: normal; line
 -height: inherit;"> </p><p style="margin: 0; text-align: left; color: rgb(0
 ,0,0); font-family: Helvetica; font-size: 12.0px; margin-bottom: 0.0cm; fon
 t-weight: normal; font-style: normal; line-height: inherit;"><span style="c
 olor: inherit; font-size: 16.0px; font-family: helvetica , arial , sans-ser
 if;"> </span></p><p class="acym__wysid__tinymce--text--placeholder" style="
 margin: 0; text-align: left; margin-bottom: 0; font-family: Helvetica; font
 -size: 12.0px; color: rgb(0,0,0); font-weight: normal; font-style: normal; 
 line-height: inherit;"><span style="color: inherit; font-family: helvetica 
 , arial , sans-serif; font-size: 16.0px;"><span style="color: inherit; back
 ground-color: inherit;"><span style="color: rgb(0,0,0);"><br />Die Vorstand
 schaft freut sich auf Euer Kommen.<br /></span></span></span></p><p style="
 margin: 0; text-align: left; margin-bottom: 0; color: rgb(0,0,0); font-fami
 ly: Helvetica; font-size: 12.0px; line-height: inherit; font-weight: normal
 ; font-style: normal;"> </p><p class="acym__wysid__tinymce--text--placehold
 er" style="margin: 0; text-align: left; margin-bottom: 0; font-family: Helv
 etica; font-size: 12.0px; color: rgb(0,0,0); font-weight: normal; font-styl
 e: normal; line-height: inherit;"><br /><span style="color: inherit; font-s
 ize: 16.0px; font-family: helvetica , arial , sans-serif;">Viele Grüße</spa
 n><br /><br /><span style="color: inherit; font-size: 16.0px; font-family: 
 helvetica , arial , sans-serif;">Die Vorstandschaft</span></p></div></td></
 tr></tbody></table></th></tr></tbody></table>
DTSTAMP:20260421T134237
DTSTART;TZID=Europe/Berlin;VALUE=DATE:20240727
DTEND;TZID=Europe/Berlin;VALUE=DATE:20240728
SEQUENCE:0
TRANSP:OPAQUE
END:VEVENT
END:VCALENDAR